BEGIN:VCALENDAR
VERSION:2.0
PRODID:-//Stratis iCal API//FR
CALSCALE:GREGORIAN
X-WR-CALNAME:1er Salon du livre régional
BEGIN:VEVENT
UID:event-17799
SUMMARY:1er Salon du livre régional
DESCRIPTION:Venez rencontrer 45 auteurs lors du premier Salon du livre régional !
DTSTAMP:20221108T091348Z
DTSTART:20221113T090000Z
DTEND:20221113T170000Z
LOCATION:Labeuvrière
STATUS:CONFIRMED
SEQUENCE:1
BEGIN:VALARM
TRIGGER:-PT30M
DESCRIPTION:1er Salon du livre régional
ACTION:DISPLAY
END:VALARM
END:VEVENT
END:VCALENDAR