BEGIN:VCALENDAR
VERSION:2.0
PRODID:-//Stratis iCal API//FR
CALSCALE:GREGORIAN
X-WR-CALNAME:Job Dating Agro
BEGIN:VEVENT
UID:event-17797
SUMMARY:Job Dating Agro
DESCRIPTION:Venez à la rencontre d'entreprises agroalimentaire qui recrutent !
DTSTAMP:20221107T133429Z
DTSTART:20221118T080000Z
DTEND:20221118T110000Z
LOCATION:Noeux-les-Mines
STATUS:CONFIRMED
SEQUENCE:6
BEGIN:VALARM
TRIGGER:-PT30M
DESCRIPTION:Job Dating Agro
ACTION:DISPLAY
END:VALARM
END:VEVENT
END:VCALENDAR