BEGIN:VCALENDAR
VERSION:2.0
PRODID:-//Stratis iCal API//FR
CALSCALE:GREGORIAN
X-WR-CALNAME:Gambrinus Fest
BEGIN:VEVENT
UID:event-17790
SUMMARY:Gambrinus Fest
DESCRIPTION:2ème festival de bières artisanales de Noël à Béthune en partenariat avec les associations « Les Amis de la Bière »  « Zythos  l’Étoile des Brasseurs »  et avec le soutien de la Ville de Béthune et de l’Agglomération.
DTSTAMP:20221101T070000Z
DTSTART:20221112T130000Z
DTEND:20221113T170000Z
LOCATION:Béthune
STATUS:CONFIRMED
SEQUENCE:10
BEGIN:VALARM
TRIGGER:-PT30M
DESCRIPTION:Gambrinus Fest
ACTION:DISPLAY
END:VALARM
END:VEVENT
END:VCALENDAR