BEGIN:VCALENDAR
VERSION:2.0
PRODID:-//Stratis iCal API//FR
CALSCALE:GREGORIAN
X-WR-CALNAME:Farm'dating : une autre manière de se rencontrer pour s'installer, s'associer et transmettre en agriculture
BEGIN:VEVENT
UID:event-17730
SUMMARY:Farm'dating : une autre manière de se rencontrer pour s'installer  s'associer et transmettre en agriculture
DESCRIPTION:Des exploitations agricoles d'un côté  des porteurs de projets de l'autre  venus des 4 coins des Hauts-de-France  et un temps d'échange individuel pour se rencontrer  échanger puis cogiter sur un potentiel projet en commun. Tel est le concept de FARM DATING.
DTSTAMP:20221004T133553Z
DTSTART:20221115T124500Z
DTEND:20221115T160000Z
STATUS:CONFIRMED
SEQUENCE:4
BEGIN:VALARM
TRIGGER:-PT30M
DESCRIPTION:Farm'dating : une autre manière de se rencontrer pour s'installer  s'associer et transmettre en agriculture
ACTION:DISPLAY
END:VALARM
END:VEVENT
END:VCALENDAR