BEGIN:VCALENDAR
VERSION:2.0
PRODID:-//Stratis iCal API//FR
CALSCALE:GREGORIAN
X-WR-CALNAME:Sur la piste de la nature avec Géotopia
BEGIN:VEVENT
UID:event-17723
SUMMARY:Sur la piste de la nature avec Géotopia
DESCRIPTION:Géotopia vous accompagne cet automne à la conquête de la nature !
DTSTAMP:20220929T133131Z
DTSTART:20221021T220000Z
DTEND:20221125T230000Z
LOCATION:Mont-Bernanchon
STATUS:CONFIRMED
SEQUENCE:2
BEGIN:VALARM
TRIGGER:-PT30M
DESCRIPTION:Sur la piste de la nature avec Géotopia
ACTION:DISPLAY
END:VALARM
END:VEVENT
END:VCALENDAR