BEGIN:VCALENDAR
VERSION:2.0
PRODID:-//Stratis iCal API//FR
CALSCALE:GREGORIAN
X-WR-CALNAME:Pique-nique participatif
BEGIN:VEVENT
UID:event-17599
SUMMARY:Pique-nique participatif
DESCRIPTION:Lys sans Frontières plante le décor pour vous offrir un agréable été à savourer en famille ou entre amis dans la Vallée de la Lys. A l’occasion de ses 20 ans  l’association a convié des artistes pour mettre en musique vos piques niques au bord de l’eau le week-end.
DTSTAMP:20220802T153638Z
DTSTART:20220828T100000Z
DTEND:20220828T130000Z
LOCATION:Cuinchy
STATUS:CONFIRMED
SEQUENCE:6
BEGIN:VALARM
TRIGGER:-PT30M
DESCRIPTION:Pique-nique participatif
ACTION:DISPLAY
END:VALARM
END:VEVENT
END:VCALENDAR