BEGIN:VCALENDAR
VERSION:2.0
PRODID:-//Stratis iCal API//FR
CALSCALE:GREGORIAN
X-WR-CALNAME:Atelier tissage végétal
BEGIN:VEVENT
UID:event-16916
SUMMARY:Atelier tissage végétal
DESCRIPTION:4 séances sont proposées pour les débutant.es  les amateurs.rices  les écolos et les curieux.ses de l’art ! 
DTSTAMP:20211204T161638Z
DTSTART:20220716T120000Z
DTEND:20220716T160000Z
LOCATION:Béthune
STATUS:CONFIRMED
SEQUENCE:2
BEGIN:VALARM
TRIGGER:-PT30M
DESCRIPTION:Atelier tissage végétal
ACTION:DISPLAY
END:VALARM
END:VEVENT
END:VCALENDAR